BEGIN:VCALENDAR
VERSION:2.0
PRODID:-//Yolo County HPAC - ECPv6.15.20//NONSGML v1.0//EN
CALSCALE:GREGORIAN
METHOD:PUBLISH
X-WR-CALNAME:Yolo County HPAC
X-ORIGINAL-URL:https://yolohpac.org
X-WR-CALDESC:Events for Yolo County HPAC
REFRESH-INTERVAL;VALUE=DURATION:PT1H
X-Robots-Tag:noindex
X-PUBLISHED-TTL:PT1H
BEGIN:VTIMEZONE
TZID:America/Los_Angeles
BEGIN:DAYLIGHT
TZOFFSETFROM:-0800
TZOFFSETTO:-0700
TZNAME:PDT
DTSTART:20250309T100000
END:DAYLIGHT
BEGIN:STANDARD
TZOFFSETFROM:-0700
TZOFFSETTO:-0800
TZNAME:PST
DTSTART:20251102T090000
END:STANDARD
BEGIN:DAYLIGHT
TZOFFSETFROM:-0800
TZOFFSETTO:-0700
TZNAME:PDT
DTSTART:20260308T100000
END:DAYLIGHT
BEGIN:STANDARD
TZOFFSETFROM:-0700
TZOFFSETTO:-0800
TZNAME:PST
DTSTART:20261101T090000
END:STANDARD
BEGIN:DAYLIGHT
TZOFFSETFROM:-0800
TZOFFSETTO:-0700
TZNAME:PDT
DTSTART:20270314T100000
END:DAYLIGHT
BEGIN:STANDARD
TZOFFSETFROM:-0700
TZOFFSETTO:-0800
TZNAME:PST
DTSTART:20271107T090000
END:STANDARD
BEGIN:DAYLIGHT
TZOFFSETFROM:-0800
TZOFFSETTO:-0700
TZNAME:PDT
DTSTART:20280312T100000
END:DAYLIGHT
BEGIN:STANDARD
TZOFFSETFROM:-0700
TZOFFSETTO:-0800
TZNAME:PST
DTSTART:20281105T090000
END:STANDARD
BEGIN:DAYLIGHT
TZOFFSETFROM:-0800
TZOFFSETTO:-0700
TZNAME:PDT
DTSTART:20290311T100000
END:DAYLIGHT
BEGIN:STANDARD
TZOFFSETFROM:-0700
TZOFFSETTO:-0800
TZNAME:PST
DTSTART:20291104T090000
END:STANDARD
END:VTIMEZONE
BEGIN:VEVENT
DTSTART;TZID=America/Los_Angeles:20260422T090000
DTEND;TZID=America/Los_Angeles:20260422T090000
DTSTAMP:20260419T081644
CREATED:20250228T213647Z
LAST-MODIFIED:20250228T224847Z
UID:10000137-1776848400-1776848400@yolohpac.org
SUMMARY:Governance Meeting (Every fourth Wednesday at 9am)
DESCRIPTION:
URL:https://yolohpac.org/event/governance-meeting-every-fourth-wednesday-at-9am/2026-04-22/
LOCATION:https://us02web.zoom.us/j/83589386812%C2%A0
END:VEVENT
BEGIN:VEVENT
DTSTART;TZID=America/Los_Angeles:20260527T090000
DTEND;TZID=America/Los_Angeles:20260527T090000
DTSTAMP:20260419T081644
CREATED:20250228T213647Z
LAST-MODIFIED:20250228T224847Z
UID:10000138-1779872400-1779872400@yolohpac.org
SUMMARY:Governance Meeting (Every fourth Wednesday at 9am)
DESCRIPTION:
URL:https://yolohpac.org/event/governance-meeting-every-fourth-wednesday-at-9am/2026-05-27/
LOCATION:https://us02web.zoom.us/j/83589386812%C2%A0
END:VEVENT
BEGIN:VEVENT
DTSTART;TZID=America/Los_Angeles:20260624T090000
DTEND;TZID=America/Los_Angeles:20260624T090000
DTSTAMP:20260419T081644
CREATED:20250228T213647Z
LAST-MODIFIED:20250228T224847Z
UID:10000139-1782291600-1782291600@yolohpac.org
SUMMARY:Governance Meeting (Every fourth Wednesday at 9am)
DESCRIPTION:
URL:https://yolohpac.org/event/governance-meeting-every-fourth-wednesday-at-9am/2026-06-24/
LOCATION:https://us02web.zoom.us/j/83589386812%C2%A0
END:VEVENT
BEGIN:VEVENT
DTSTART;TZID=America/Los_Angeles:20260722T090000
DTEND;TZID=America/Los_Angeles:20260722T090000
DTSTAMP:20260419T081644
CREATED:20250228T213647Z
LAST-MODIFIED:20250228T224847Z
UID:10000140-1784710800-1784710800@yolohpac.org
SUMMARY:Governance Meeting (Every fourth Wednesday at 9am)
DESCRIPTION:
URL:https://yolohpac.org/event/governance-meeting-every-fourth-wednesday-at-9am/2026-07-22/
LOCATION:https://us02web.zoom.us/j/83589386812%C2%A0
END:VEVENT
BEGIN:VEVENT
DTSTART;TZID=America/Los_Angeles:20260826T090000
DTEND;TZID=America/Los_Angeles:20260826T090000
DTSTAMP:20260419T081644
CREATED:20250228T213647Z
LAST-MODIFIED:20250228T224847Z
UID:10000141-1787734800-1787734800@yolohpac.org
SUMMARY:Governance Meeting (Every fourth Wednesday at 9am)
DESCRIPTION:
URL:https://yolohpac.org/event/governance-meeting-every-fourth-wednesday-at-9am/2026-08-26/
LOCATION:https://us02web.zoom.us/j/83589386812%C2%A0
END:VEVENT
BEGIN:VEVENT
DTSTART;TZID=America/Los_Angeles:20260923T090000
DTEND;TZID=America/Los_Angeles:20260923T090000
DTSTAMP:20260419T081644
CREATED:20250228T213647Z
LAST-MODIFIED:20250228T224847Z
UID:10000142-1790154000-1790154000@yolohpac.org
SUMMARY:Governance Meeting (Every fourth Wednesday at 9am)
DESCRIPTION:
URL:https://yolohpac.org/event/governance-meeting-every-fourth-wednesday-at-9am/2026-09-23/
LOCATION:https://us02web.zoom.us/j/83589386812%C2%A0
END:VEVENT
BEGIN:VEVENT
DTSTART;TZID=America/Los_Angeles:20261028T090000
DTEND;TZID=America/Los_Angeles:20261028T090000
DTSTAMP:20260419T081644
CREATED:20250228T213647Z
LAST-MODIFIED:20250228T224847Z
UID:10000143-1793178000-1793178000@yolohpac.org
SUMMARY:Governance Meeting (Every fourth Wednesday at 9am)
DESCRIPTION:
URL:https://yolohpac.org/event/governance-meeting-every-fourth-wednesday-at-9am/2026-10-28/
LOCATION:https://us02web.zoom.us/j/83589386812%C2%A0
END:VEVENT
BEGIN:VEVENT
DTSTART;TZID=America/Los_Angeles:20261125T090000
DTEND;TZID=America/Los_Angeles:20261125T090000
DTSTAMP:20260419T081644
CREATED:20250228T213647Z
LAST-MODIFIED:20250228T224847Z
UID:10000144-1795597200-1795597200@yolohpac.org
SUMMARY:Governance Meeting (Every fourth Wednesday at 9am)
DESCRIPTION:
URL:https://yolohpac.org/event/governance-meeting-every-fourth-wednesday-at-9am/2026-11-25/
LOCATION:https://us02web.zoom.us/j/83589386812%C2%A0
END:VEVENT
BEGIN:VEVENT
DTSTART;TZID=America/Los_Angeles:20261223T090000
DTEND;TZID=America/Los_Angeles:20261223T090000
DTSTAMP:20260419T081644
CREATED:20250228T213647Z
LAST-MODIFIED:20250228T224847Z
UID:10000145-1798016400-1798016400@yolohpac.org
SUMMARY:Governance Meeting (Every fourth Wednesday at 9am)
DESCRIPTION:
URL:https://yolohpac.org/event/governance-meeting-every-fourth-wednesday-at-9am/2026-12-23/
LOCATION:https://us02web.zoom.us/j/83589386812%C2%A0
END:VEVENT
BEGIN:VEVENT
DTSTART;TZID=America/Los_Angeles:20270127T090000
DTEND;TZID=America/Los_Angeles:20270127T090000
DTSTAMP:20260419T081644
CREATED:20250228T213647Z
LAST-MODIFIED:20250228T224847Z
UID:10000146-1801040400-1801040400@yolohpac.org
SUMMARY:Governance Meeting (Every fourth Wednesday at 9am)
DESCRIPTION:
URL:https://yolohpac.org/event/governance-meeting-every-fourth-wednesday-at-9am/2027-01-27/
LOCATION:https://us02web.zoom.us/j/83589386812%C2%A0
END:VEVENT
BEGIN:VEVENT
DTSTART;TZID=America/Los_Angeles:20270224T090000
DTEND;TZID=America/Los_Angeles:20270224T090000
DTSTAMP:20260419T081644
CREATED:20250228T213647Z
LAST-MODIFIED:20250228T224847Z
UID:10000147-1803459600-1803459600@yolohpac.org
SUMMARY:Governance Meeting (Every fourth Wednesday at 9am)
DESCRIPTION:
URL:https://yolohpac.org/event/governance-meeting-every-fourth-wednesday-at-9am/2027-02-24/
LOCATION:https://us02web.zoom.us/j/83589386812%C2%A0
END:VEVENT
BEGIN:VEVENT
DTSTART;TZID=America/Los_Angeles:20270324T090000
DTEND;TZID=America/Los_Angeles:20270324T090000
DTSTAMP:20260419T081644
CREATED:20250228T213647Z
LAST-MODIFIED:20250228T224847Z
UID:10000148-1805878800-1805878800@yolohpac.org
SUMMARY:Governance Meeting (Every fourth Wednesday at 9am)
DESCRIPTION:
URL:https://yolohpac.org/event/governance-meeting-every-fourth-wednesday-at-9am/2027-03-24/
LOCATION:https://us02web.zoom.us/j/83589386812%C2%A0
END:VEVENT
BEGIN:VEVENT
DTSTART;TZID=America/Los_Angeles:20270428T090000
DTEND;TZID=America/Los_Angeles:20270428T090000
DTSTAMP:20260419T081644
CREATED:20250228T213647Z
LAST-MODIFIED:20250228T224847Z
UID:10000149-1808902800-1808902800@yolohpac.org
SUMMARY:Governance Meeting (Every fourth Wednesday at 9am)
DESCRIPTION:
URL:https://yolohpac.org/event/governance-meeting-every-fourth-wednesday-at-9am/2027-04-28/
LOCATION:https://us02web.zoom.us/j/83589386812%C2%A0
END:VEVENT
BEGIN:VEVENT
DTSTART;TZID=America/Los_Angeles:20270526T090000
DTEND;TZID=America/Los_Angeles:20270526T090000
DTSTAMP:20260419T081644
CREATED:20250228T213647Z
LAST-MODIFIED:20250228T224847Z
UID:10000150-1811322000-1811322000@yolohpac.org
SUMMARY:Governance Meeting (Every fourth Wednesday at 9am)
DESCRIPTION:
URL:https://yolohpac.org/event/governance-meeting-every-fourth-wednesday-at-9am/2027-05-26/
LOCATION:https://us02web.zoom.us/j/83589386812%C2%A0
END:VEVENT
BEGIN:VEVENT
DTSTART;TZID=America/Los_Angeles:20270623T090000
DTEND;TZID=America/Los_Angeles:20270623T090000
DTSTAMP:20260419T081644
CREATED:20250228T213647Z
LAST-MODIFIED:20250228T224847Z
UID:10000151-1813741200-1813741200@yolohpac.org
SUMMARY:Governance Meeting (Every fourth Wednesday at 9am)
DESCRIPTION:
URL:https://yolohpac.org/event/governance-meeting-every-fourth-wednesday-at-9am/2027-06-23/
LOCATION:https://us02web.zoom.us/j/83589386812%C2%A0
END:VEVENT
BEGIN:VEVENT
DTSTART;TZID=America/Los_Angeles:20270728T090000
DTEND;TZID=America/Los_Angeles:20270728T090000
DTSTAMP:20260419T081644
CREATED:20250228T213647Z
LAST-MODIFIED:20250228T224847Z
UID:10000152-1816765200-1816765200@yolohpac.org
SUMMARY:Governance Meeting (Every fourth Wednesday at 9am)
DESCRIPTION:
URL:https://yolohpac.org/event/governance-meeting-every-fourth-wednesday-at-9am/2027-07-28/
LOCATION:https://us02web.zoom.us/j/83589386812%C2%A0
END:VEVENT
BEGIN:VEVENT
DTSTART;TZID=America/Los_Angeles:20270825T090000
DTEND;TZID=America/Los_Angeles:20270825T090000
DTSTAMP:20260419T081644
CREATED:20250228T213647Z
LAST-MODIFIED:20250228T224847Z
UID:10000153-1819184400-1819184400@yolohpac.org
SUMMARY:Governance Meeting (Every fourth Wednesday at 9am)
DESCRIPTION:
URL:https://yolohpac.org/event/governance-meeting-every-fourth-wednesday-at-9am/2027-08-25/
LOCATION:https://us02web.zoom.us/j/83589386812%C2%A0
END:VEVENT
BEGIN:VEVENT
DTSTART;TZID=America/Los_Angeles:20270922T090000
DTEND;TZID=America/Los_Angeles:20270922T090000
DTSTAMP:20260419T081644
CREATED:20250228T213647Z
LAST-MODIFIED:20250228T224847Z
UID:10000154-1821603600-1821603600@yolohpac.org
SUMMARY:Governance Meeting (Every fourth Wednesday at 9am)
DESCRIPTION:
URL:https://yolohpac.org/event/governance-meeting-every-fourth-wednesday-at-9am/2027-09-22/
LOCATION:https://us02web.zoom.us/j/83589386812%C2%A0
END:VEVENT
BEGIN:VEVENT
DTSTART;TZID=America/Los_Angeles:20271027T090000
DTEND;TZID=America/Los_Angeles:20271027T090000
DTSTAMP:20260419T081644
CREATED:20250228T213647Z
LAST-MODIFIED:20250228T224847Z
UID:10000155-1824627600-1824627600@yolohpac.org
SUMMARY:Governance Meeting (Every fourth Wednesday at 9am)
DESCRIPTION:
URL:https://yolohpac.org/event/governance-meeting-every-fourth-wednesday-at-9am/2027-10-27/
LOCATION:https://us02web.zoom.us/j/83589386812%C2%A0
END:VEVENT
BEGIN:VEVENT
DTSTART;TZID=America/Los_Angeles:20271124T090000
DTEND;TZID=America/Los_Angeles:20271124T090000
DTSTAMP:20260419T081644
CREATED:20250228T213647Z
LAST-MODIFIED:20250228T224847Z
UID:10000156-1827046800-1827046800@yolohpac.org
SUMMARY:Governance Meeting (Every fourth Wednesday at 9am)
DESCRIPTION:
URL:https://yolohpac.org/event/governance-meeting-every-fourth-wednesday-at-9am/2027-11-24/
LOCATION:https://us02web.zoom.us/j/83589386812%C2%A0
END:VEVENT
BEGIN:VEVENT
DTSTART;TZID=America/Los_Angeles:20271222T090000
DTEND;TZID=America/Los_Angeles:20271222T090000
DTSTAMP:20260419T081644
CREATED:20250228T213647Z
LAST-MODIFIED:20250228T224847Z
UID:10000157-1829466000-1829466000@yolohpac.org
SUMMARY:Governance Meeting (Every fourth Wednesday at 9am)
DESCRIPTION:
URL:https://yolohpac.org/event/governance-meeting-every-fourth-wednesday-at-9am/2027-12-22/
LOCATION:https://us02web.zoom.us/j/83589386812%C2%A0
END:VEVENT
BEGIN:VEVENT
DTSTART;TZID=America/Los_Angeles:20280126T090000
DTEND;TZID=America/Los_Angeles:20280126T090000
DTSTAMP:20260419T081644
CREATED:20250228T213647Z
LAST-MODIFIED:20250228T224847Z
UID:10000158-1832490000-1832490000@yolohpac.org
SUMMARY:Governance Meeting (Every fourth Wednesday at 9am)
DESCRIPTION:
URL:https://yolohpac.org/event/governance-meeting-every-fourth-wednesday-at-9am/2028-01-26/
LOCATION:https://us02web.zoom.us/j/83589386812%C2%A0
END:VEVENT
BEGIN:VEVENT
DTSTART;TZID=America/Los_Angeles:20280223T090000
DTEND;TZID=America/Los_Angeles:20280223T090000
DTSTAMP:20260419T081644
CREATED:20250228T213647Z
LAST-MODIFIED:20250228T224847Z
UID:10000159-1834909200-1834909200@yolohpac.org
SUMMARY:Governance Meeting (Every fourth Wednesday at 9am)
DESCRIPTION:
URL:https://yolohpac.org/event/governance-meeting-every-fourth-wednesday-at-9am/2028-02-23/
LOCATION:https://us02web.zoom.us/j/83589386812%C2%A0
END:VEVENT
BEGIN:VEVENT
DTSTART;TZID=America/Los_Angeles:20280322T090000
DTEND;TZID=America/Los_Angeles:20280322T090000
DTSTAMP:20260419T081644
CREATED:20250228T213647Z
LAST-MODIFIED:20250228T224847Z
UID:10000160-1837328400-1837328400@yolohpac.org
SUMMARY:Governance Meeting (Every fourth Wednesday at 9am)
DESCRIPTION:
URL:https://yolohpac.org/event/governance-meeting-every-fourth-wednesday-at-9am/2028-03-22/
LOCATION:https://us02web.zoom.us/j/83589386812%C2%A0
END:VEVENT
BEGIN:VEVENT
DTSTART;TZID=America/Los_Angeles:20280426T090000
DTEND;TZID=America/Los_Angeles:20280426T090000
DTSTAMP:20260419T081645
CREATED:20250228T213647Z
LAST-MODIFIED:20250228T224847Z
UID:10000161-1840352400-1840352400@yolohpac.org
SUMMARY:Governance Meeting (Every fourth Wednesday at 9am)
DESCRIPTION:
URL:https://yolohpac.org/event/governance-meeting-every-fourth-wednesday-at-9am/2028-04-26/
LOCATION:https://us02web.zoom.us/j/83589386812%C2%A0
END:VEVENT
BEGIN:VEVENT
DTSTART;TZID=America/Los_Angeles:20280524T090000
DTEND;TZID=America/Los_Angeles:20280524T090000
DTSTAMP:20260419T081645
CREATED:20250228T213647Z
LAST-MODIFIED:20250228T224847Z
UID:10000162-1842771600-1842771600@yolohpac.org
SUMMARY:Governance Meeting (Every fourth Wednesday at 9am)
DESCRIPTION:
URL:https://yolohpac.org/event/governance-meeting-every-fourth-wednesday-at-9am/2028-05-24/
LOCATION:https://us02web.zoom.us/j/83589386812%C2%A0
END:VEVENT
BEGIN:VEVENT
DTSTART;TZID=America/Los_Angeles:20280628T090000
DTEND;TZID=America/Los_Angeles:20280628T090000
DTSTAMP:20260419T081645
CREATED:20250228T213647Z
LAST-MODIFIED:20250228T224847Z
UID:10000163-1845795600-1845795600@yolohpac.org
SUMMARY:Governance Meeting (Every fourth Wednesday at 9am)
DESCRIPTION:
URL:https://yolohpac.org/event/governance-meeting-every-fourth-wednesday-at-9am/2028-06-28/
LOCATION:https://us02web.zoom.us/j/83589386812%C2%A0
END:VEVENT
BEGIN:VEVENT
DTSTART;TZID=America/Los_Angeles:20280726T090000
DTEND;TZID=America/Los_Angeles:20280726T090000
DTSTAMP:20260419T081645
CREATED:20250228T213647Z
LAST-MODIFIED:20250228T224847Z
UID:10000164-1848214800-1848214800@yolohpac.org
SUMMARY:Governance Meeting (Every fourth Wednesday at 9am)
DESCRIPTION:
URL:https://yolohpac.org/event/governance-meeting-every-fourth-wednesday-at-9am/2028-07-26/
LOCATION:https://us02web.zoom.us/j/83589386812%C2%A0
END:VEVENT
BEGIN:VEVENT
DTSTART;TZID=America/Los_Angeles:20280823T090000
DTEND;TZID=America/Los_Angeles:20280823T090000
DTSTAMP:20260419T081645
CREATED:20250228T213647Z
LAST-MODIFIED:20250228T224847Z
UID:10000165-1850634000-1850634000@yolohpac.org
SUMMARY:Governance Meeting (Every fourth Wednesday at 9am)
DESCRIPTION:
URL:https://yolohpac.org/event/governance-meeting-every-fourth-wednesday-at-9am/2028-08-23/
LOCATION:https://us02web.zoom.us/j/83589386812%C2%A0
END:VEVENT
BEGIN:VEVENT
DTSTART;TZID=America/Los_Angeles:20280927T090000
DTEND;TZID=America/Los_Angeles:20280927T090000
DTSTAMP:20260419T081645
CREATED:20250228T213647Z
LAST-MODIFIED:20250228T224847Z
UID:10000166-1853658000-1853658000@yolohpac.org
SUMMARY:Governance Meeting (Every fourth Wednesday at 9am)
DESCRIPTION:
URL:https://yolohpac.org/event/governance-meeting-every-fourth-wednesday-at-9am/2028-09-27/
LOCATION:https://us02web.zoom.us/j/83589386812%C2%A0
END:VEVENT
END:VCALENDAR