BEGIN:VCALENDAR
VERSION:2.0
PRODID:-//Yolo County HPAC - ECPv6.15.20//NONSGML v1.0//EN
CALSCALE:GREGORIAN
METHOD:PUBLISH
X-ORIGINAL-URL:https://yolohpac.org
X-WR-CALDESC:Events for Yolo County HPAC
REFRESH-INTERVAL;VALUE=DURATION:PT1H
X-Robots-Tag:noindex
X-PUBLISHED-TTL:PT1H
BEGIN:VTIMEZONE
TZID:America/Los_Angeles
BEGIN:DAYLIGHT
TZOFFSETFROM:-0800
TZOFFSETTO:-0700
TZNAME:PDT
DTSTART:20250309T100000
END:DAYLIGHT
BEGIN:STANDARD
TZOFFSETFROM:-0700
TZOFFSETTO:-0800
TZNAME:PST
DTSTART:20251102T090000
END:STANDARD
BEGIN:DAYLIGHT
TZOFFSETFROM:-0800
TZOFFSETTO:-0700
TZNAME:PDT
DTSTART:20260308T100000
END:DAYLIGHT
BEGIN:STANDARD
TZOFFSETFROM:-0700
TZOFFSETTO:-0800
TZNAME:PST
DTSTART:20261101T090000
END:STANDARD
BEGIN:DAYLIGHT
TZOFFSETFROM:-0800
TZOFFSETTO:-0700
TZNAME:PDT
DTSTART:20270314T100000
END:DAYLIGHT
BEGIN:STANDARD
TZOFFSETFROM:-0700
TZOFFSETTO:-0800
TZNAME:PST
DTSTART:20271107T090000
END:STANDARD
END:VTIMEZONE
BEGIN:VEVENT
DTSTART;VALUE=DATE:20261006
DTEND;VALUE=DATE:20261007
DTSTAMP:20260419T195953
CREATED:20260129T004942Z
LAST-MODIFIED:20260129T011015Z
UID:10000439-1791244800-1791331199@yolohpac.org
SUMMARY:CAS Assessor Training Series: Introduction to Trauma-Informed Care
DESCRIPTION:View Event
URL:https://yolohpac.org/event/cas-assessor-training-series-introduction-to-trauma-informed-care-2/
CATEGORIES:Training Calendar
END:VEVENT
BEGIN:VEVENT
DTSTART;VALUE=DATE:20261013
DTEND;VALUE=DATE:20261014
DTSTAMP:20260419T195953
CREATED:20260129T005202Z
LAST-MODIFIED:20260129T011027Z
UID:10000440-1791849600-1791935999@yolohpac.org
SUMMARY:CAS Assessor Training Series: Preventing Vicarious Trauma in Case Management
DESCRIPTION:View Event
URL:https://yolohpac.org/event/cas-assessor-training-series-preventing-vicarious-trauma-in-case-management-2/
CATEGORIES:Training Calendar
END:VEVENT
BEGIN:VEVENT
DTSTART;VALUE=DATE:20261014
DTEND;VALUE=DATE:20261015
DTSTAMP:20260419T195953
CREATED:20260129T005246Z
LAST-MODIFIED:20260129T011040Z
UID:10000441-1791936000-1792022399@yolohpac.org
SUMMARY:Housing Problem Solving Training
DESCRIPTION:View Event
URL:https://yolohpac.org/event/housing-problem-solving-training-5/
CATEGORIES:Training Calendar
END:VEVENT
BEGIN:VEVENT
DTSTART;VALUE=DATE:20261020
DTEND;VALUE=DATE:20261021
DTSTAMP:20260419T195953
CREATED:20260129T005350Z
LAST-MODIFIED:20260129T011055Z
UID:10000442-1792454400-1792540799@yolohpac.org
SUMMARY:CAS Assessor Training Series: Introduction to Conversational Case Management
DESCRIPTION:View Event
URL:https://yolohpac.org/event/cas-assessor-training-series-introduction-to-conversational-case-management-2/
CATEGORIES:Training Calendar
END:VEVENT
END:VCALENDAR